BEGIN:VCALENDAR
VERSION:2.0
PRODID:-//pretix//pretix.eu//
BEGIN:VTIMEZONE
TZID:Europe/Berlin
BEGIN:STANDARD
DTSTART:20001029T040000
RRULE:FREQ=YEARLY;BYDAY=-1SU;BYMONTH=10
TZNAME:CET
TZOFFSETFROM:+0200
TZOFFSETTO:+0100
END:STANDARD
BEGIN:DAYLIGHT
DTSTART:20000326T030000
RRULE:FREQ=YEARLY;BYDAY=-1SU;BYMONTH=3
TZNAME:CEST
TZOFFSETFROM:+0100
TZOFFSETTO:+0200
END:DAYLIGHT
END:VTIMEZONE
BEGIN:VEVENT
UID:pretix-digitalpiloten-trp39-2601182@tickets.digitalpiloten.org
DTSTART;TZID=Europe/Berlin:20211010T100000
DTEND;TZID=Europe/Berlin:20211010T130000
DESCRIPTION:Tickets: https://tickets.digitalpiloten.org/trp39/2601182/\nVer
 anstalter: DigitalPiloten e. V.
DTSTAMP:20260424T055331Z
LOCATION:online
SUMMARY:Calliope Mini mit Python Programmieren lernen
END:VEVENT
END:VCALENDAR
