BEGIN:VCALENDAR
VERSION:2.0
PRODID:-//pretix//pretix.eu//
BEGIN:VTIMEZONE
TZID:Europe/Berlin
BEGIN:STANDARD
DTSTART:20001029T040000
RRULE:FREQ=YEARLY;BYDAY=-1SU;BYMONTH=10
TZNAME:CET
TZOFFSETFROM:+0200
TZOFFSETTO:+0100
END:STANDARD
BEGIN:DAYLIGHT
DTSTART:20000326T030000
RRULE:FREQ=YEARLY;BYDAY=-1SU;BYMONTH=3
TZNAME:CEST
TZOFFSETFROM:+0100
TZOFFSETTO:+0200
END:DAYLIGHT
END:VTIMEZONE
BEGIN:VEVENT
UID:pretix-digitalpiloten-sphero-bib-3987138@tickets.digitalpiloten.org
DTSTART;TZID=Europe/Berlin:20231014T130000
DTEND;TZID=Europe/Berlin:20231014T170000
DESCRIPTION:Tickets: https://tickets.digitalpiloten.org/sphero-bib/3987138/
 \nVeranstalter: DigitalPiloten e. V.
DTSTAMP:20260423T090601Z
LOCATION:Stadtbibliothek Kelkheim\, Am Marktplatz 1\, 65779 Kelkheim (Taunu
 s)
SUMMARY:Smarte Kugel-Roboter programmieren lernen!
END:VEVENT
END:VCALENDAR
